BEGIN:VCALENDAR
VERSION:2.0
PRODID:-//hacksw/handcal//NONSGML v1.0//EN
BEGIN:VEVENT
UID:10562
DTSTART;VALUE=DATE:20180519
URL;VALUE=URI:ohschonhell.at/?page_id=22720
SUMMARY:MorgenKlang pres Offizielle PUSH 4 TEC Afterhour
LOCATION:CLUB ATINA BAR LOUNGE
END:VEVENT
END:VCALENDAR


