BEGIN:VCALENDAR
VERSION:2.0
PRODID:-//hacksw/handcal//NONSGML v1.0//EN
BEGIN:VEVENT
UID:10577
DTSTART;VALUE=DATE:20180526
URL;VALUE=URI:ohschonhell.at/?page_id=22755
SUMMARY:UNTER die Gürtellinie | 1 YR Anniversary [Free Rave]
LOCATION:Kramladen
END:VEVENT
END:VCALENDAR


