BEGIN:VCALENDAR
VERSION:2.0
PRODID:-//hacksw/handcal//NONSGML v1.0//EN
BEGIN:VEVENT
UID:10578
DTSTART;VALUE=DATE:20180609
URL;VALUE=URI:ohschonhell.at/?page_id=22763
SUMMARY:G.SPOT PRIDE FEST AFTERPARTY
LOCATION:CAMERA CLUB
END:VEVENT
END:VCALENDAR


