BEGIN:VCALENDAR
VERSION:2.0
PRODID:-//hacksw/handcal//NONSGML v1.0//EN
BEGIN:VEVENT
UID:1061
DTSTART;VALUE=DATE:20140502
URL;VALUE=URI:ohschonhell.at/?page_id=3529
SUMMARY:☆★♡Projekt:zumInderOffizielle Sommereröffnung♥☆★
LOCATION:SUMMER STATION
END:VEVENT
END:VCALENDAR


