BEGIN:VCALENDAR
VERSION:2.0
PRODID:-//hacksw/handcal//NONSGML v1.0//EN
BEGIN:VEVENT
UID:10650
DTSTART;VALUE=DATE:20180529
URL;VALUE=URI:ohschonhell.at/?page_id=22914
SUMMARY:Viennalizm | Tuesdays Stage Issue !
LOCATION:Strandbar Herrmann
END:VEVENT
END:VCALENDAR


