BEGIN:VCALENDAR
VERSION:2.0
PRODID:-//hacksw/handcal//NONSGML v1.0//EN
BEGIN:VEVENT
UID:10669
DTSTART;VALUE=DATE:20180519
URL;VALUE=URI:ohschonhell.at/?page_id=22954
SUMMARY:Alles Banane Openair am Schloss Cobenzl
LOCATION:Café Luftschloss Cobenzl
END:VEVENT
END:VCALENDAR


