BEGIN:VCALENDAR
VERSION:2.0
PRODID:-//hacksw/handcal//NONSGML v1.0//EN
BEGIN:VEVENT
UID:10683
DTSTART;VALUE=DATE:20180512
URL;VALUE=URI:ohschonhell.at/?page_id=22984
SUMMARY:Zinnober /w MoM〡Badespaß im Club
LOCATION:Zinnober
END:VEVENT
END:VCALENDAR


