BEGIN:VCALENDAR
VERSION:2.0
PRODID:-//hacksw/handcal//NONSGML v1.0//EN
BEGIN:VEVENT
UID:1069
DTSTART;VALUE=DATE:20140417
URL;VALUE=URI:ohschonhell.at/?page_id=3537
SUMMARY:• DONNERSTAG NACHTS • opening • CAFE EUROPA
LOCATION:CAFE EUROPA
END:VEVENT
END:VCALENDAR


