BEGIN:VCALENDAR
VERSION:2.0
PRODID:-//hacksw/handcal//NONSGML v1.0//EN
BEGIN:VEVENT
UID:10703
DTSTART;VALUE=DATE:20180508
URL;VALUE=URI:ohschonhell.at/?page_id=23030
SUMMARY:Orion Goa Club mit Sebananda
LOCATION:FLUCC
END:VEVENT
END:VCALENDAR


