BEGIN:VCALENDAR
VERSION:2.0
PRODID:-//hacksw/handcal//NONSGML v1.0//EN
BEGIN:VEVENT
UID:1072
DTSTART;VALUE=DATE:20140410
URL;VALUE=URI:ohschonhell.at/?page_id=3540
SUMMARY:NHAN SOLO (Off Recordings)  ♥ SASS
LOCATION:SASS
END:VEVENT
END:VCALENDAR


