BEGIN:VCALENDAR
VERSION:2.0
PRODID:-//hacksw/handcal//NONSGML v1.0//EN
BEGIN:VEVENT
UID:10722
DTSTART;VALUE=DATE:20180616
URL;VALUE=URI:ohschonhell.at/?page_id=23074
SUMMARY:PACOU (Tresor Berlin) = Sub.Invasion PT II x Brutalists
LOCATION:CAMERA CLUB
END:VEVENT
END:VCALENDAR


