BEGIN:VCALENDAR
VERSION:2.0
PRODID:-//hacksw/handcal//NONSGML v1.0//EN
BEGIN:VEVENT
UID:1074
DTSTART;VALUE=DATE:20140410
URL;VALUE=URI:ohschonhell.at/?page_id=3542
SUMMARY:Tiefentanz / Elektro Gönner / Deep Dreams
LOCATION:ELEKTRO GÖNNER
END:VEVENT
END:VCALENDAR


