BEGIN:VCALENDAR
VERSION:2.0
PRODID:-//hacksw/handcal//NONSGML v1.0//EN
BEGIN:VEVENT
UID:10743
DTSTART;VALUE=DATE:20180608
URL;VALUE=URI:ohschonhell.at/?page_id=23156
SUMMARY:NEW WAVE - Maze &amp\; Quantix - 8. Juni
LOCATION:Event Arena Vösendorf
END:VEVENT
END:VCALENDAR


