BEGIN:VCALENDAR
VERSION:2.0
PRODID:-//hacksw/handcal//NONSGML v1.0//EN
BEGIN:VEVENT
UID:10764
DTSTART;VALUE=DATE:20180629
URL;VALUE=URI:ohschonhell.at/?page_id=23214
SUMMARY:Electric Gypsy Swing Summer Party - FLUC
LOCATION:FLUCC
END:VEVENT
END:VCALENDAR


