BEGIN:VCALENDAR
VERSION:2.0
PRODID:-//hacksw/handcal//NONSGML v1.0//EN
BEGIN:VEVENT
UID:10809
DTSTART;VALUE=DATE:20180630
URL;VALUE=URI:ohschonhell.at/?page_id=23323
SUMMARY:Vienna ist Tropical special #Under the Sea
LOCATION:EINBAUMÖBEL - 1bm
END:VEVENT
END:VCALENDAR


