BEGIN:VCALENDAR
VERSION:2.0
PRODID:-//hacksw/handcal//NONSGML v1.0//EN
BEGIN:VEVENT
UID:10820
DTSTART;VALUE=DATE:20180622
URL;VALUE=URI:ohschonhell.at/?page_id=23347
SUMMARY:Mutter - Caro&#039\;s BDay Mutter
LOCATION:SASS
END:VEVENT
END:VCALENDAR


