BEGIN:VCALENDAR
VERSION:2.0
PRODID:-//hacksw/handcal//NONSGML v1.0//EN
BEGIN:VEVENT
UID:10840
DTSTART;VALUE=DATE:20180622
URL;VALUE=URI:ohschonhell.at/?page_id=23405
SUMMARY:Fingers of God\, Nino Šebelić\, Primm
LOCATION:VENSTER 99
END:VEVENT
END:VCALENDAR


