BEGIN:VCALENDAR
VERSION:2.0
PRODID:-//hacksw/handcal//NONSGML v1.0//EN
BEGIN:VEVENT
UID:10853
DTSTART;VALUE=DATE:20180707
URL;VALUE=URI:ohschonhell.at/?page_id=23438
SUMMARY:Puppenhouse ★ SA 07/07/18 ★ VCBC
LOCATION:VIENNA CITY BEACH CLUB
END:VEVENT
END:VCALENDAR


