BEGIN:VCALENDAR
VERSION:2.0
PRODID:-//hacksw/handcal//NONSGML v1.0//EN
BEGIN:VEVENT
UID:10866
DTSTART;VALUE=DATE:20180802
URL;VALUE=URI:ohschonhell.at/?page_id=23485
SUMMARY:Wiener Linie Electro Special with FUKKK OFFF
LOCATION:U4
END:VEVENT
END:VCALENDAR


