BEGIN:VCALENDAR
VERSION:2.0
PRODID:-//hacksw/handcal//NONSGML v1.0//EN
BEGIN:VEVENT
UID:10869
DTSTART;VALUE=DATE:20180728
URL;VALUE=URI:ohschonhell.at/?page_id=23491
SUMMARY:Ganz Genau! open air rave\, am Cobenzl
LOCATION:Café Luftschloss Cobenzl
END:VEVENT
END:VCALENDAR


