BEGIN:VCALENDAR
VERSION:2.0
PRODID:-//hacksw/handcal//NONSGML v1.0//EN
BEGIN:VEVENT
UID:10876
DTSTART;VALUE=DATE:20180721
URL;VALUE=URI:ohschonhell.at/?page_id=23505
SUMMARY:Apropos: Innellea (upon.you / München)
LOCATION:SASS
END:VEVENT
END:VCALENDAR


