BEGIN:VCALENDAR
VERSION:2.0
PRODID:-//hacksw/handcal//NONSGML v1.0//EN
BEGIN:VEVENT
UID:10879
DTSTART;VALUE=DATE:20180720
URL;VALUE=URI:ohschonhell.at/?page_id=23513
SUMMARY:G.SPOT - Big Splash - Summer Special
LOCATION:VIENNA CITY BEACH CLUB
END:VEVENT
END:VCALENDAR


