BEGIN:VCALENDAR
VERSION:2.0
PRODID:-//hacksw/handcal//NONSGML v1.0//EN
BEGIN:VEVENT
UID:10881
DTSTART;VALUE=DATE:20180719
URL;VALUE=URI:ohschonhell.at/?page_id=23519
SUMMARY:Donnerstag Nacht x Better Be Nice | Sass Music Club
LOCATION:SASS
END:VEVENT
END:VCALENDAR


