BEGIN:VCALENDAR
VERSION:2.0
PRODID:-//hacksw/handcal//NONSGML v1.0//EN
BEGIN:VEVENT
UID:10898
DTSTART;VALUE=DATE:20180621
URL;VALUE=URI:ohschonhell.at/?page_id=23571
SUMMARY:Wiener Linie: Traumata &amp\; Paul Hammer
LOCATION:U4
END:VEVENT
END:VCALENDAR


