BEGIN:VCALENDAR
VERSION:2.0
PRODID:-//hacksw/handcal//NONSGML v1.0//EN
BEGIN:VEVENT
UID:10914
DTSTART;VALUE=DATE:20180731
URL;VALUE=URI:ohschonhell.at/?page_id=23615
SUMMARY:Bass Implosion 31.7. w/ AudioDevice\, Envy\, Phlage\, Mr HighFi
LOCATION:WEBERKNECHT
END:VEVENT
END:VCALENDAR


