BEGIN:VCALENDAR
VERSION:2.0
PRODID:-//hacksw/handcal//NONSGML v1.0//EN
BEGIN:VEVENT
UID:10928
DTSTART;VALUE=DATE:20180721
URL;VALUE=URI:ohschonhell.at/?page_id=23659
SUMMARY:21. Juli: Ashida Park w/ Nahshi
LOCATION:VESTIBÜL BURGTHEATER
END:VEVENT
END:VCALENDAR


