BEGIN:VCALENDAR
VERSION:2.0
PRODID:-//hacksw/handcal//NONSGML v1.0//EN
BEGIN:VEVENT
UID:10951
DTSTART;VALUE=DATE:20180721
URL;VALUE=URI:ohschonhell.at/?page_id=23716
SUMMARY:Downtempo im Kramladen
LOCATION:Kramladen
END:VEVENT
END:VCALENDAR


