BEGIN:VCALENDAR
VERSION:2.0
PRODID:-//hacksw/handcal//NONSGML v1.0//EN
BEGIN:VEVENT
UID:10952
DTSTART;VALUE=DATE:20181228
URL;VALUE=URI:ohschonhell.at/?page_id=23728
SUMMARY:EAFC&#039\;s Solstice Ritual
LOCATION:VIPER ROOM
END:VEVENT
END:VCALENDAR


