BEGIN:VCALENDAR
VERSION:2.0
PRODID:-//hacksw/handcal//NONSGML v1.0//EN
BEGIN:VEVENT
UID:10988
DTSTART;VALUE=DATE:20180727
URL;VALUE=URI:ohschonhell.at/?page_id=23850
SUMMARY:FRIDAU
LOCATION:AU
END:VEVENT
END:VCALENDAR


