BEGIN:VCALENDAR
VERSION:2.0
PRODID:-//hacksw/handcal//NONSGML v1.0//EN
BEGIN:VEVENT
UID:10994
DTSTART;VALUE=DATE:20180803
URL;VALUE=URI:ohschonhell.at/?page_id=23876
SUMMARY:Lauter Lärm #4
LOCATION:VENSTER 99
END:VEVENT
END:VCALENDAR


