BEGIN:VCALENDAR
VERSION:2.0
PRODID:-//hacksw/handcal//NONSGML v1.0//EN
BEGIN:VEVENT
UID:10997
DTSTART;VALUE=DATE:20180728
URL;VALUE=URI:ohschonhell.at/?page_id=23886
SUMMARY:Legends _Rave Edition ★ SA 28/07/18 ★ VCBC
LOCATION:VIENNA CITY BEACH CLUB
END:VEVENT
END:VCALENDAR


