BEGIN:VCALENDAR
VERSION:2.0
PRODID:-//hacksw/handcal//NONSGML v1.0//EN
BEGIN:VEVENT
UID:10999
DTSTART;VALUE=DATE:20180727
URL;VALUE=URI:ohschonhell.at/?page_id=23892
SUMMARY:Sticks &amp\; Stones #06
LOCATION:ELEKTRO GÖNNER
END:VEVENT
END:VCALENDAR


