BEGIN:VCALENDAR
VERSION:2.0
PRODID:-//hacksw/handcal//NONSGML v1.0//EN
BEGIN:VEVENT
UID:11006
DTSTART;VALUE=DATE:20180814
URL;VALUE=URI:ohschonhell.at/?page_id=23918
SUMMARY:Merkwürdig / Open Air / Rave / Cobenzl / Closing
LOCATION:Café Luftschloss Cobenzl
END:VEVENT
END:VCALENDAR


