BEGIN:VCALENDAR
VERSION:2.0
PRODID:-//hacksw/handcal//NONSGML v1.0//EN
BEGIN:VEVENT
UID:11012
DTSTART;VALUE=DATE:20181110
URL;VALUE=URI:ohschonhell.at/?page_id=23940
SUMMARY:Chvrches\, Support: Anger | Vienna (Gasometer)
LOCATION:GASOMETER
END:VEVENT
END:VCALENDAR


