BEGIN:VCALENDAR
VERSION:2.0
PRODID:-//hacksw/handcal//NONSGML v1.0//EN
BEGIN:VEVENT
UID:11018
DTSTART;VALUE=DATE:20180830
URL;VALUE=URI:ohschonhell.at/?page_id=23954
SUMMARY:Kult! w/ Unai Trotti
LOCATION:SASS
END:VEVENT
END:VCALENDAR


