BEGIN:VCALENDAR
VERSION:2.0
PRODID:-//hacksw/handcal//NONSGML v1.0//EN
BEGIN:VEVENT
UID:11019
DTSTART;VALUE=DATE:20180825
URL;VALUE=URI:ohschonhell.at/?page_id=23956
SUMMARY:Astronaughty Episode VI - HOUSE Edition
LOCATION:CAMERA CLUB
END:VEVENT
END:VCALENDAR


