BEGIN:VCALENDAR
VERSION:2.0
PRODID:-//hacksw/handcal//NONSGML v1.0//EN
BEGIN:VEVENT
UID:11022
DTSTART;VALUE=DATE:20180818
URL;VALUE=URI:ohschonhell.at/?page_id=23964
SUMMARY:Freekends. presents: Free The MEAT
LOCATION:GRELLE FORELLE
END:VEVENT
END:VCALENDAR


