BEGIN:VCALENDAR
VERSION:2.0
PRODID:-//hacksw/handcal//NONSGML v1.0//EN
BEGIN:VEVENT
UID:1104
DTSTART;VALUE=DATE:20140418
URL;VALUE=URI:ohschonhell.at/?page_id=3574
SUMMARY:FRI 18.4.: RUNTIN.net|WWT#8 ft. FLOWDAN (UK)\, DUBAPES\, BAZZAKA &amp\; mm. // Camera VIE
LOCATION:CAMERA CLUB
END:VEVENT
END:VCALENDAR


