BEGIN:VCALENDAR
VERSION:2.0
PRODID:-//hacksw/handcal//NONSGML v1.0//EN
BEGIN:VEVENT
UID:11057
DTSTART;VALUE=DATE:20180811
URL;VALUE=URI:ohschonhell.at/?page_id=24053
SUMMARY:4020 Homeboys On Away Turf Vol. 1
LOCATION:ELEKTRO GÖNNER
END:VEVENT
END:VCALENDAR


