BEGIN:VCALENDAR
VERSION:2.0
PRODID:-//hacksw/handcal//NONSGML v1.0//EN
BEGIN:VEVENT
UID:11061
DTSTART;VALUE=DATE:20180808
URL;VALUE=URI:ohschonhell.at/?page_id=24069
SUMMARY:Corona Sunsets Session - Strandbar Herrmann
LOCATION:Strandbar Herrmann
END:VEVENT
END:VCALENDAR


