BEGIN:VCALENDAR
VERSION:2.0
PRODID:-//hacksw/handcal//NONSGML v1.0//EN
BEGIN:VEVENT
UID:11063
DTSTART;VALUE=DATE:20180801
URL;VALUE=URI:ohschonhell.at/?page_id=24075
SUMMARY:Good Vibes ★ Mittwochs im August 2018 ★ VCBC
LOCATION:VIENNA CITY BEACH CLUB
END:VEVENT
END:VCALENDAR


