BEGIN:VCALENDAR
VERSION:2.0
PRODID:-//hacksw/handcal//NONSGML v1.0//EN
BEGIN:VEVENT
UID:11099
DTSTART;VALUE=DATE:20180811
URL;VALUE=URI:ohschonhell.at/?page_id=24285
SUMMARY:Nachtflug _ SA 11/08/18 _ VCBC
LOCATION:VIENNA CITY BEACH CLUB
END:VEVENT
END:VCALENDAR


