BEGIN:VCALENDAR
VERSION:2.0
PRODID:-//hacksw/handcal//NONSGML v1.0//EN
BEGIN:VEVENT
UID:11137
DTSTART;VALUE=DATE:20180831
URL;VALUE=URI:ohschonhell.at/?page_id=24409
SUMMARY:Horst Is Back - Der Anfang vom Ende
LOCATION:HORST
END:VEVENT
END:VCALENDAR


