BEGIN:VCALENDAR
VERSION:2.0
PRODID:-//hacksw/handcal//NONSGML v1.0//EN
BEGIN:VEVENT
UID:11139
DTSTART;VALUE=DATE:20180824
URL;VALUE=URI:ohschonhell.at/?page_id=24415
SUMMARY:Beats am Dach feat. HamsterRad Crew
LOCATION:OBEN
END:VEVENT
END:VCALENDAR


