BEGIN:VCALENDAR
VERSION:2.0
PRODID:-//hacksw/handcal//NONSGML v1.0//EN
BEGIN:VEVENT
UID:11149
DTSTART;VALUE=DATE:20180831
URL;VALUE=URI:ohschonhell.at/?page_id=24462
SUMMARY:UNTER die Gürtellinie #7 ▩ AMK ▩ all night
LOCATION:Kramladen
END:VEVENT
END:VCALENDAR


