BEGIN:VCALENDAR
VERSION:2.0
PRODID:-//hacksw/handcal//NONSGML v1.0//EN
BEGIN:VEVENT
UID:11153
DTSTART;VALUE=DATE:20180908
URL;VALUE=URI:ohschonhell.at/?page_id=24471
SUMMARY:Erna kramt #nine / free entry
LOCATION:Kramladen
END:VEVENT
END:VCALENDAR


