BEGIN:VCALENDAR
VERSION:2.0
PRODID:-//hacksw/handcal//NONSGML v1.0//EN
BEGIN:VEVENT
UID:11185
DTSTART;VALUE=DATE:20180907
URL;VALUE=URI:ohschonhell.at/?page_id=24554
SUMMARY:Horst &amp\; Hannelore w/ Monika Kruse
LOCATION:HORST
END:VEVENT
END:VCALENDAR


