BEGIN:VCALENDAR
VERSION:2.0
PRODID:-//hacksw/handcal//NONSGML v1.0//EN
BEGIN:VEVENT
UID:11186
DTSTART;VALUE=DATE:20180907
URL;VALUE=URI:ohschonhell.at/?page_id=24556
SUMMARY:Crazywelle w/ Secret Cinema
LOCATION:FLEX
END:VEVENT
END:VCALENDAR


