BEGIN:VCALENDAR
VERSION:2.0
PRODID:-//hacksw/handcal//NONSGML v1.0//EN
BEGIN:VEVENT
UID:11201
DTSTART;VALUE=DATE:20180824
URL;VALUE=URI:ohschonhell.at/?page_id=24592
SUMMARY:DiSCO FRiSCO | Boogaloo Steve + Johnny ¥en / Elektro Gönner
LOCATION:ELEKTRO GÖNNER
END:VEVENT
END:VCALENDAR


