BEGIN:VCALENDAR
VERSION:2.0
PRODID:-//hacksw/handcal//NONSGML v1.0//EN
BEGIN:VEVENT
UID:11215
DTSTART;VALUE=DATE:20180929
URL;VALUE=URI:ohschonhell.at/?page_id=24681
SUMMARY:Apropos: Madmotormiquel (Bachstelzen\, Katermukke/Berlin)
LOCATION:SASS
END:VEVENT
END:VCALENDAR


